BEGIN:VCALENDAR
VERSION:2.0
PRODID:-//eventon.com NONSGML v1.0//EN
CALSCALE:GREGORIAN
METHOD:PUBLISH
BEGIN:VEVENT
UID:69e7a7e69e484
DTSTAMP:20260421T163758Z
DTSTART:20251219
DTEND:20251220
LOCATION:
SUMMARY:FestiCampo25
DESCRIPTION:19\,  20 y 21 de Diciembre / FestiCampo 25 - Estanislao del Cam
 po. &nbsp; &nbsp; &nbsp;\nhttps://www.formosahermosa.gob.ar/events/festicam
 po25/
URL:https://www.formosahermosa.gob.ar/events/festicampo25/
END:VEVENT
END:VCALENDAR