BEGIN:VCALENDAR
VERSION:2.0
PRODID:-//eventon.com NONSGML v1.0//EN
CALSCALE:GREGORIAN
METHOD:PUBLISH
BEGIN:VEVENT
UID:69eb990a1a3b5
DTSTAMP:20260424T162338Z
DTSTART:20260214
DTEND:20260215
LOCATION:
SUMMARY:Peña Folclórica
DESCRIPTION:14 de Febrero / Peña Folclórica - Ciudad de Formosa. &nbsp; &
 nbsp; &nbsp;\nhttps://www.formosahermosa.gob.ar/events/pena-folclorica/
URL:https://www.formosahermosa.gob.ar/events/pena-folclorica/
END:VEVENT
END:VCALENDAR