BEGIN:VCALENDAR
VERSION:2.0
PRODID:-//eventon.com NONSGML v1.0//EN
CALSCALE:GREGORIAN
METHOD:PUBLISH
BEGIN:VEVENT
UID:69e6329927695
DTSTAMP:20260420T140513Z
DTSTART:20260207T110000Z
DTEND:20260208T220000Z
LOCATION:
SUMMARY:10° Edición del Festival Río\,  Mate y Tereré
DESCRIPTION:El 7 y 8 de febrero tenemos la 10° Edición del Festival Río\
 ,  Mate y Tereré en el Paseo Ferroviario - Ciudad de Formosa.\nhttps://www
 .formosahermosa.gob.ar/events/10-edicion-del-festival-rio-mate-y-terere/
URL:https://www.formosahermosa.gob.ar/events/10-edicion-del-festival-rio-mate-y-terere/
END:VEVENT
END:VCALENDAR